BEGIN:VCALENDAR
VERSION:2.0
PRODID:-//Sherborn History - ECPv6.15.20//NONSGML v1.0//EN
CALSCALE:GREGORIAN
METHOD:PUBLISH
X-WR-CALNAME:Sherborn History
X-ORIGINAL-URL:https://www.sherbornhistory.org
X-WR-CALDESC:Events for Sherborn History
REFRESH-INTERVAL;VALUE=DURATION:PT1H
X-Robots-Tag:noindex
X-PUBLISHED-TTL:PT1H
BEGIN:VTIMEZONE
TZID:UTC
BEGIN:STANDARD
TZOFFSETFROM:+0000
TZOFFSETTO:+0000
TZNAME:UTC
DTSTART:20240101T000000
END:STANDARD
END:VTIMEZONE
BEGIN:VEVENT
DTSTART;TZID=UTC:20251004T090000
DTEND;TZID=UTC:20251004T140000
DTSTAMP:20260423T223916
CREATED:20250907T180408Z
LAST-MODIFIED:20250924T191945Z
UID:4206-1759568400-1759586400@www.sherbornhistory.org
SUMMARY:Sherborn Historical Society Yard Sale
DESCRIPTION:One man’s history is another man’s treasure! Come support the Sherborn Historical Society by shopping at our yard sale.
URL:https://www.sherbornhistory.org/event/sherborn-historical-society-yard-sale/
LOCATION:20 North Main Street\, Sherborn\, 20 North Main Street\, Sherborn\, MA\, 01770
ORGANIZER;CN="Sherborn Historical Society":MAILTO:sherbornhistoricalsociety@gmail.com
END:VEVENT
BEGIN:VEVENT
DTSTART;TZID=UTC:20251015T190000
DTEND;TZID=UTC:20251015T203000
DTSTAMP:20260423T223916
CREATED:20250907T183937Z
LAST-MODIFIED:20250907T183937Z
UID:4211-1760554800-1760560200@www.sherbornhistory.org
SUMMARY:The Great Abolitionist Charles Sumner with Author Stephen Puleo
DESCRIPTION:Join us for an exciting evening with Stephen Puleo\, author\, historian\, teacher\, public speaker and communications professional. He is the author of eight books\, including his most recent\, The Great Abolitionist: Charles Sumner and the Fight for a More Perfect Union\, published by St. Martin’s Press in April\, 2024. \nThe Great Abolitionist tells the story of one of the most influential non-presidents in American history (included in this exclusive club were Benjamin Franklin\, Alexander Hamilton\, Susan B. Anthony\, and Martin Luther King\, Jr.) – and far more influential than many presidents – a leader who exhibited true courage and authenticity.
URL:https://www.sherbornhistory.org/event/the-great-abolitionist-charles-sumner-with-author-stephen-puleo/
LOCATION:Sherborn Library\, 4 Sanger Street\, Sherborn\, MA\, 01770\, United States
END:VEVENT
BEGIN:VEVENT
DTSTART;TZID=UTC:20251026T120000
DTEND;TZID=UTC:20251026T133000
DTSTAMP:20260423T223916
CREATED:20251008T023709Z
LAST-MODIFIED:20251008T023709Z
UID:4228-1761480000-1761485400@www.sherbornhistory.org
SUMMARY:Halloween and History: Pinehill Cemetery Walk (All Ages)
DESCRIPTION:Join us to learn about Sherborn’s own rural garden cemetery\, where we’ll share some true accounts about a handful of our yesteryear neighbors now at rest. The dead can still tell stories\, some spooky\, others heroic; all are interesting! \nDowse apple cider and donuts courtesy of the Sherborn Historical Society. \nSunday\, October 26th\, 12 – 1:15 PM\, starting at the cemetery’s gazebo.
URL:https://www.sherbornhistory.org/event/halloween-and-history-pinehill-cemetery-walk-all-ages/
LOCATION:Pine Hill Cemetery\, Cemetery Lane\, Sherborn\, MA\, 01770\, United States
ORGANIZER;CN="Sherborn Historical Society":MAILTO:sherbornhistoricalsociety@gmail.com
END:VEVENT
END:VCALENDAR