BEGIN:VCALENDAR
VERSION:2.0
PRODID:-//Sherborn History - ECPv6.15.20//NONSGML v1.0//EN
CALSCALE:GREGORIAN
METHOD:PUBLISH
X-WR-CALNAME:Sherborn History
X-ORIGINAL-URL:https://www.sherbornhistory.org
X-WR-CALDESC:Events for Sherborn History
REFRESH-INTERVAL;VALUE=DURATION:PT1H
X-Robots-Tag:noindex
X-PUBLISHED-TTL:PT1H
BEGIN:VTIMEZONE
TZID:America/New_York
BEGIN:DAYLIGHT
TZOFFSETFROM:-0500
TZOFFSETTO:-0400
TZNAME:EDT
DTSTART:20230312T070000
END:DAYLIGHT
BEGIN:STANDARD
TZOFFSETFROM:-0400
TZOFFSETTO:-0500
TZNAME:EST
DTSTART:20231105T060000
END:STANDARD
BEGIN:DAYLIGHT
TZOFFSETFROM:-0500
TZOFFSETTO:-0400
TZNAME:EDT
DTSTART:20240310T070000
END:DAYLIGHT
BEGIN:STANDARD
TZOFFSETFROM:-0400
TZOFFSETTO:-0500
TZNAME:EST
DTSTART:20241103T060000
END:STANDARD
BEGIN:DAYLIGHT
TZOFFSETFROM:-0500
TZOFFSETTO:-0400
TZNAME:EDT
DTSTART:20250309T070000
END:DAYLIGHT
BEGIN:STANDARD
TZOFFSETFROM:-0400
TZOFFSETTO:-0500
TZNAME:EST
DTSTART:20251102T060000
END:STANDARD
END:VTIMEZONE
BEGIN:VEVENT
DTSTART;TZID=America/New_York:20240511T100000
DTEND;TZID=America/New_York:20240511T160000
DTSTAMP:20260424T001114
CREATED:20240509T004403Z
LAST-MODIFIED:20240509T004445Z
UID:3887-1715421600-1715443200@www.sherbornhistory.org
SUMMARY:ARTS & CRAFTS FAIR
DESCRIPTION:Stop by the Annual Arts & Crafts Fair! The Sherborn History Center and Museum will have a table in the Community Booth section. We would love to meet you and chat about our shared history. You can also meet and take a selfie with the Boggastow Bunch!
URL:https://www.sherbornhistory.org/event/arts-crafts-fair/
LOCATION:Sherborn Library\, 4 Sanger Street\, Sherborn\, MA\, 01770\, United States
END:VEVENT
END:VCALENDAR