BEGIN:VCALENDAR
VERSION:2.0
PRODID:-//Sherborn History - ECPv6.15.20//NONSGML v1.0//EN
CALSCALE:GREGORIAN
METHOD:PUBLISH
X-WR-CALNAME:Sherborn History
X-ORIGINAL-URL:https://www.sherbornhistory.org
X-WR-CALDESC:Events for Sherborn History
REFRESH-INTERVAL;VALUE=DURATION:PT1H
X-Robots-Tag:noindex
X-PUBLISHED-TTL:PT1H
BEGIN:VTIMEZONE
TZID:UTC
BEGIN:STANDARD
TZOFFSETFROM:+0000
TZOFFSETTO:+0000
TZNAME:UTC
DTSTART:20230101T000000
END:STANDARD
END:VTIMEZONE
BEGIN:VTIMEZONE
TZID:America/New_York
BEGIN:DAYLIGHT
TZOFFSETFROM:-0500
TZOFFSETTO:-0400
TZNAME:EDT
DTSTART:20230312T070000
END:DAYLIGHT
BEGIN:STANDARD
TZOFFSETFROM:-0400
TZOFFSETTO:-0500
TZNAME:EST
DTSTART:20231105T060000
END:STANDARD
BEGIN:DAYLIGHT
TZOFFSETFROM:-0500
TZOFFSETTO:-0400
TZNAME:EDT
DTSTART:20240310T070000
END:DAYLIGHT
BEGIN:STANDARD
TZOFFSETFROM:-0400
TZOFFSETTO:-0500
TZNAME:EST
DTSTART:20241103T060000
END:STANDARD
BEGIN:DAYLIGHT
TZOFFSETFROM:-0500
TZOFFSETTO:-0400
TZNAME:EDT
DTSTART:20250309T070000
END:DAYLIGHT
BEGIN:STANDARD
TZOFFSETFROM:-0400
TZOFFSETTO:-0500
TZNAME:EST
DTSTART:20251102T060000
END:STANDARD
END:VTIMEZONE
BEGIN:VEVENT
DTSTART;TZID=UTC:20251206T090000
DTEND;TZID=UTC:20251206T150000
DTSTAMP:20260423T224214
CREATED:20251118T022700Z
LAST-MODIFIED:20251118T022700Z
UID:4276-1765011600-1765033200@www.sherbornhistory.org
SUMMARY:Join us at the Sherborn Holiday Market!
DESCRIPTION:The Sherborn Historical Society will host a table at the Sherborn Holiday Market\, where we will be selling treasures including candle holders crafted from the Dowse sycamore tree (made by our very own Kevin Delaney). Come by and say hi! \n 
URL:https://www.sherbornhistory.org/event/join-us-at-the-sherborn-holiday-market/
LOCATION:Sherborn 1858 Town House\, 3 Sanger St\, Sherborn\, MA\, 01770\, United States
END:VEVENT
BEGIN:VEVENT
DTSTART;TZID=UTC:20251026T120000
DTEND;TZID=UTC:20251026T133000
DTSTAMP:20260423T224214
CREATED:20251008T023709Z
LAST-MODIFIED:20251008T023709Z
UID:4228-1761480000-1761485400@www.sherbornhistory.org
SUMMARY:Halloween and History: Pinehill Cemetery Walk (All Ages)
DESCRIPTION:Join us to learn about Sherborn’s own rural garden cemetery\, where we’ll share some true accounts about a handful of our yesteryear neighbors now at rest. The dead can still tell stories\, some spooky\, others heroic; all are interesting! \nDowse apple cider and donuts courtesy of the Sherborn Historical Society. \nSunday\, October 26th\, 12 – 1:15 PM\, starting at the cemetery’s gazebo.
URL:https://www.sherbornhistory.org/event/halloween-and-history-pinehill-cemetery-walk-all-ages/
LOCATION:Pine Hill Cemetery\, Cemetery Lane\, Sherborn\, MA\, 01770\, United States
ORGANIZER;CN="Sherborn Historical Society":MAILTO:sherbornhistoricalsociety@gmail.com
END:VEVENT
BEGIN:VEVENT
DTSTART;TZID=UTC:20251015T190000
DTEND;TZID=UTC:20251015T203000
DTSTAMP:20260423T224214
CREATED:20250907T183937Z
LAST-MODIFIED:20250907T183937Z
UID:4211-1760554800-1760560200@www.sherbornhistory.org
SUMMARY:The Great Abolitionist Charles Sumner with Author Stephen Puleo
DESCRIPTION:Join us for an exciting evening with Stephen Puleo\, author\, historian\, teacher\, public speaker and communications professional. He is the author of eight books\, including his most recent\, The Great Abolitionist: Charles Sumner and the Fight for a More Perfect Union\, published by St. Martin’s Press in April\, 2024. \nThe Great Abolitionist tells the story of one of the most influential non-presidents in American history (included in this exclusive club were Benjamin Franklin\, Alexander Hamilton\, Susan B. Anthony\, and Martin Luther King\, Jr.) – and far more influential than many presidents – a leader who exhibited true courage and authenticity.
URL:https://www.sherbornhistory.org/event/the-great-abolitionist-charles-sumner-with-author-stephen-puleo/
LOCATION:Sherborn Library\, 4 Sanger Street\, Sherborn\, MA\, 01770\, United States
END:VEVENT
BEGIN:VEVENT
DTSTART;TZID=UTC:20251004T090000
DTEND;TZID=UTC:20251004T140000
DTSTAMP:20260423T224214
CREATED:20250907T180408Z
LAST-MODIFIED:20250924T191945Z
UID:4206-1759568400-1759586400@www.sherbornhistory.org
SUMMARY:Sherborn Historical Society Yard Sale
DESCRIPTION:One man’s history is another man’s treasure! Come support the Sherborn Historical Society by shopping at our yard sale.
URL:https://www.sherbornhistory.org/event/sherborn-historical-society-yard-sale/
LOCATION:20 North Main Street\, Sherborn\, 20 North Main Street\, Sherborn\, MA\, 01770
ORGANIZER;CN="Sherborn Historical Society":MAILTO:sherbornhistoricalsociety@gmail.com
END:VEVENT
BEGIN:VEVENT
DTSTART;TZID=UTC:20250913T130000
DTEND;TZID=UTC:20250913T143000
DTSTAMP:20260423T224214
CREATED:20250617T015320Z
LAST-MODIFIED:20250617T015532Z
UID:4185-1757768400-1757773800@www.sherbornhistory.org
SUMMARY:Dallin in our Memory and his Sherborn Sculptures
DESCRIPTION:Sept. 13th program about “Memory” and its sculptor\, Dallin \nWhat do you know about the “Memory” statue?  It is so familiar to those of us who drive by its location in the Town of Sherborn’s Central Burying Ground at the split of Routes 16 and 27.  The statue memorializes the Sherborn residents who died in wars through World War I\, was a gift of William Bradford Homer Dowse and was created by the sculptor Cyrus Dallin (1861-1944).  The Town also received\, as a gift from Dr. Scudder\, a plaster copy of Dallin’s bust of Dr. Oliver Wendell Holmes\, Sr.   \nGeri Tremblay and Nancy Blanton\, who are respectively the President and Secretary/Staff Director of Outreach and Engagement of the Cyrus Dallin Art Museum in Arlington\, Massachusetts\, will give a presentation entitled “Dallin in our Memory and his Sherborn Sculptures.” They consider the “Memory” statue to be one of Dallin’s more significant works.  Another copy of the bust of Dr. Holmes is on display at the museum.   \n  \n \nPlease join us for their presentation on Saturday\, September 13th\, 2025 at 1:00 pm in the Community Room on the bottom floor of the Library at 4 Sanger Street or remotely by Zoom.  This event is presented by the Sherborn History Center\, the Sherborn Library and the Sherborn Council on Aging.   The program will be recorded and available later online as a YouTube video.   \nRegistering is necessary to watch via Zoom and is helpful for preparations if attending.  Visit Sherbornlibrary.org\, click “news and events\,” find the calendar’s Sept. 13th date\, and click on “hybrid” or visit sherbornhistoricalsociety.org\, sign up in the box for the e-newsletter\, and check your email the day before the program for an email with a link to the Library’s registration.   \nPeople will be able to see the bust at the program.  If weather permits\, we will gather afterwards at the “Memory” statue for a few more remembrances. 
URL:https://www.sherbornhistory.org/event/dallin-in-our-memory-and-his-sherborn-sculptures/
LOCATION:Sherborn Library\, 4 Sanger Street\, Sherborn\, MA\, 01770\, United States
END:VEVENT
BEGIN:VEVENT
DTSTART;VALUE=DATE:20250513
DTEND;VALUE=DATE:20250514
DTSTAMP:20260423T224214
CREATED:20250506T022802Z
LAST-MODIFIED:20250506T022802Z
UID:4166-1747094400-1747180799@www.sherbornhistory.org
SUMMARY:Sherborn Town Election
DESCRIPTION:VOTE YES ON QUESTION 6 TO SUPPORT THE SHERBORN HISTORY CENTER
URL:https://www.sherbornhistory.org/event/sherborn-town-election-2/
LOCATION:Sherborn Town Hall\, 19 Washington Street\, Sherborn\, MA\, 01770\, United States
END:VEVENT
BEGIN:VEVENT
DTSTART;TZID=UTC:20250508T183000
DTEND;TZID=UTC:20250508T200000
DTSTAMP:20260423T224214
CREATED:20250506T022627Z
LAST-MODIFIED:20250506T022627Z
UID:4164-1746729000-1746734400@www.sherbornhistory.org
SUMMARY:Adventures In History - Saving What Could Be Lost (HYBRID)
DESCRIPTION:Walter McClennen has written a number of “short histories” on a broad variety of topics pertaining to family\, friends\, community and issues both social and political. His latest book\, Looking East\, is a collection of the best of these short histories selected from his writing of the past twenty years. In this presentation\, Walter shared what he terms “history adventures” based on\, among other things\, the birth of a grandchild\, the purchase of an antique house\, and the discovery of a ribbon-tied packet of letters in a trunk. In Walter’s words\, “Each one is its own tale\, but each is equally important as an example of good ways to approach “saving history” for future generations. He hopes the audience takes away a new enthusiasm for recording the many personal family and local histories that surround all of us.” \nThis is a hybrid program\, in-person in the Community Room and also on Zoom. Please register to receive the Zoom link. \nCosponsored by the Sherborn Library and the Sherborn Historical Society.  \nRegistration Required
URL:https://www.sherbornhistory.org/event/adventures-in-history-saving-what-could-be-lost-hybrid/
LOCATION:Sherborn Library\, 4 Sanger Street\, Sherborn\, MA\, 01770\, United States
END:VEVENT
BEGIN:VEVENT
DTSTART;TZID=UTC:20250429T190000
DTEND;TZID=UTC:20250429T230000
DTSTAMP:20260423T224214
CREATED:20250327T230205Z
LAST-MODIFIED:20250327T230205Z
UID:4145-1745953200-1745967600@www.sherbornhistory.org
SUMMARY:Annual Town Meeting
DESCRIPTION:Come support the Sherborn History Center at the Annual Town Meeting! \nEvery vote and voice is important!
URL:https://www.sherbornhistory.org/event/annual-town-meeting/
LOCATION:Lindquist Commons\, 155 Farm Street\, Dover\, MA\, 02030\, United States
END:VEVENT
BEGIN:VEVENT
DTSTART;TZID=UTC:20250415T170000
DTEND;TZID=UTC:20250415T190000
DTSTAMP:20260423T224214
CREATED:20250327T225220Z
LAST-MODIFIED:20250327T225220Z
UID:4134-1744736400-1744743600@www.sherbornhistory.org
SUMMARY:Sherborn History Center - Cocktail Party Fundraiser
DESCRIPTION:
URL:https://www.sherbornhistory.org/event/sherborn-history-center-cocktail-party-fundraiser/
LOCATION:Fireside Tavern\, 33 North Main Street\, Sherborn\, MA\, 01770\, United States
END:VEVENT
BEGIN:VEVENT
DTSTART;TZID=UTC:20250310T190000
DTEND;TZID=UTC:20250310T203000
DTSTAMP:20260423T224214
CREATED:20250228T145120Z
LAST-MODIFIED:20250308T220040Z
UID:4095-1741633200-1741638600@www.sherbornhistory.org
SUMMARY:Sherborn History Center & Museum - Public Forum
DESCRIPTION:Public Forum \non the \nSherborn History Center & Museum \nMonday\, March 10th\n7 PM \nSherborn Police Department \nwith architect  \nYugon Kim\, Director of TSKP x ikd \nCome hear Doug Brown\, other members of the Sherborn History Center\, and the architect\, discuss the new proposed home in the library\, see renderings from the architect\, and get all your questions answered. \nThere will be a presentation\, followed by Q&A and dialogue.
URL:https://www.sherbornhistory.org/event/sherborn-history-center-museum-public-forum/
LOCATION:MA
END:VEVENT
BEGIN:VEVENT
DTSTART;TZID=UTC:20250209T140000
DTEND;TZID=UTC:20250209T160000
DTSTAMP:20260423T224214
CREATED:20250205T000822Z
LAST-MODIFIED:20250205T000913Z
UID:4083-1739109600-1739116800@www.sherbornhistory.org
SUMMARY:Annual Meeting and Election of Officers
DESCRIPTION:Annual Meeting and Election of Officers\n\n\n\nSunday February 9\, 2025 2pm\n2nd Floor Sherborn Town Hall\n\n\n\n\nMembers\, Friends and Neighbors are welcomed! \n\n\n\n\nHear the latest update on our relocation plans. \n\n\n\n\n\n\n\n\nRefreshments will be served
URL:https://www.sherbornhistory.org/event/annual-meeting-and-election-of-officers/
LOCATION:Sherborn Town Hall\, 19 Washington Street\, Sherborn\, MA\, 01770\, United States
END:VEVENT
BEGIN:VEVENT
DTSTART;VALUE=DATE:20241214
DTEND;VALUE=DATE:20241216
DTSTAMP:20260423T224214
CREATED:20241105T030709Z
LAST-MODIFIED:20241105T030709Z
UID:3961-1734134400-1734307199@www.sherbornhistory.org
SUMMARY:350th Anniversary Culmination Weekend
DESCRIPTION:
URL:https://www.sherbornhistory.org/event/350th-anniversary-culmination-weekend/
LOCATION:Sherborn 1858 Town House\, 3 Sanger St\, Sherborn\, MA\, 01770\, United States
END:VEVENT
BEGIN:VEVENT
DTSTART;TZID=UTC:20241207T090000
DTEND;TZID=UTC:20241207T150000
DTSTAMP:20260423T224214
CREATED:20241105T030401Z
LAST-MODIFIED:20241105T030735Z
UID:3956-1733562000-1733583600@www.sherbornhistory.org
SUMMARY:"Shop Sherborn" Holiday Market
DESCRIPTION:
URL:https://www.sherbornhistory.org/event/shop-sherborn-holiday-market/
LOCATION:Sherborn 1858 Town House\, 3 Sanger St\, Sherborn\, MA\, 01770\, United States
END:VEVENT
BEGIN:VEVENT
DTSTART;TZID=UTC:20241206T200000
DTEND;TZID=UTC:20241216T200000
DTSTAMP:20260423T224214
CREATED:20241105T031112Z
LAST-MODIFIED:20241122T022022Z
UID:3965-1733515200-1734379200@www.sherbornhistory.org
SUMMARY:Bench Auction
DESCRIPTION:Proceeds to benefit the Sherborn History Center & Museum and the Committee to Celebrate Sherborn’s 350th Anniversary.
URL:https://www.sherbornhistory.org/event/bench-auction/
LOCATION:Online
END:VEVENT
BEGIN:VEVENT
DTSTART;TZID=UTC:20241112T183000
DTEND;TZID=UTC:20241112T193000
DTSTAMP:20260423T224214
CREATED:20241101T182344Z
LAST-MODIFIED:20241101T182428Z
UID:3951-1731436200-1731439800@www.sherbornhistory.org
SUMMARY:The Big Split
DESCRIPTION:Did you know that Holliston & Sherborn used to be one? Why did they split 300 years ago?! Join us for a look back at this historic event. Presentation led by each Town’s Historian Betsy Johnson & Joanne Hulbert. \nThis program is HYBRID (Zoom and in-person options). Please register whether attending in-person or on Zoom. \nCohosted by the Sherborn Library\, the Holliston & Sherborn Historical Society.
URL:https://www.sherbornhistory.org/event/the-big-split/
LOCATION:Sherborn Library\, 4 Sanger Street\, Sherborn\, MA\, 01770\, United States
END:VEVENT
BEGIN:VEVENT
DTSTART;TZID=UTC:20241019T103000
DTEND;TZID=UTC:20241019T113000
DTSTAMP:20260423T224214
CREATED:20241003T013540Z
LAST-MODIFIED:20241003T013540Z
UID:3926-1729333800-1729337400@www.sherbornhistory.org
SUMMARY:Discovering New England Stonewalls With Kevin Gardner
DESCRIPTION:Kevin’s informal talk covers a few of the main topics of his book about New England stone walls\, The Granite Kiss (Countryman Press)\, touching on history\, technique\, stylistic development\, and aesthetics. He explains how and why New England came to acquire its thousands of miles of stone walls\, the ways in which they and other dry stone structures were built\, how their styles emerged and changed overtime\, and their significance to the famous New England landscape. Other topics may include: differences in approach between historical and contemporary wall-builders\, a discussion of restoration tips and techniques\, and information about design\, acquisition of materials\, preservation\, and analysis. There is always a generous question-and-answer period\, during which listeners are encouraged to bring up specific problems or projects on their own properties. Along the way\, Kevin occupies himself building a miniature wall or walls on a tabletop\, using tiny stones from a five-gallon bucket. He often brings along his collection of books about stonework\, and copies of The Granite Kiss will be available for sale\, as well as his most recent book\, Stone Building – How To Make New England Style Walls and Other Structures The Old Way. \nSince the publication of The Granite Kiss\, Kevin has presented his program at dozens of historical societies\, bookstores\, and town libraries all over New England\, including Canterbury Shaker Village\, the NH Historical Society\, Castle-in-the-Clouds\, Old Sturbridge Village\, Boston’s Arnold Arboretum\, and many\, many more. \nThis program is co-hosted by the Sherborn Library\, The Sherborn Historical Society and the Sherborn 350th Committee
URL:https://www.sherbornhistory.org/event/discovering-new-england-stonewalls-with-kevin-gardner/
LOCATION:Sherborn Library\, 4 Sanger Street\, Sherborn\, MA\, 01770\, United States
END:VEVENT
BEGIN:VEVENT
DTSTART;TZID=UTC:20241005T110000
DTEND;TZID=UTC:20241005T120000
DTSTAMP:20260423T224214
CREATED:20241003T011554Z
LAST-MODIFIED:20241003T011554Z
UID:3923-1728126000-1728129600@www.sherbornhistory.org
SUMMARY:Sherborn's 350th Parade
DESCRIPTION:Join us for a throw-back to the parades of Sherborn’s past! Wave hi as you see us floating by… \nThe parade will depart Sawin St. at 11am and will end at Pine Hill in under an hour.
URL:https://www.sherbornhistory.org/event/sherborns-350th-parade/
LOCATION:MA
END:VEVENT
BEGIN:VEVENT
DTSTART;TZID=America/New_York:20240603T083000
DTEND;TZID=America/New_York:20240603T170000
DTSTAMP:20260423T224214
CREATED:20240509T004849Z
LAST-MODIFIED:20240509T004849Z
UID:3891-1717403400-1717434000@www.sherbornhistory.org
SUMMARY:2024 MASS HISTORY CONFERENCE
DESCRIPTION:The nineteenth annual Mass History Conference\, History Is For Everyone\, will bring together people from all walks of life to engage in historical practice and to champion inclusivity in our historical landscape. For millennia\, history has been recorded through the lens of the privileged few – captured and controlled by the elite in private ivory towers. We now know that the best history work requires collective engagement\, collaborative efforts\, and diverse perspectives. This year’s conference will showcase stories about Massachusetts’ diverse communities and spotlight the projects and skills that give us models for telling these stories.
URL:https://www.sherbornhistory.org/event/2024-mass-history-conference/
LOCATION:Devens Common Center\, 31 Andrews Pkwy\, Devens\, MA\, 01434\, United States
END:VEVENT
BEGIN:VEVENT
DTSTART;TZID=America/New_York:20240515T190000
DTEND;TZID=America/New_York:20240515T203000
DTSTAMP:20260423T224214
CREATED:20240509T002051Z
LAST-MODIFIED:20240509T002051Z
UID:3877-1715799600-1715805000@www.sherbornhistory.org
SUMMARY:SHERBORN STORIES: A 350th COMMUNITY PROJECT
DESCRIPTION:Among the many Sherborn History Center & Museum’s 350th programs is a digital effort called Sherborn Stories. Created to dramatically increase our digital history presence\, this is a crowd-sourced\, community-wide effort to connect past & present through local stories of all scopes and sizes. Join us and learn about the innovative program’s goals and processes\, and take a trip into Sherborn’s everyday life past with a site tour. The session will include a burst of joint exploration to see what we can collectively uncover about a potential story waiting to be revealed. \nOptional but encouraged: bring along a tablet or laptop to access the library’s Ancestry.com account. Get ready to reveal & share a story or two! \n 
URL:https://www.sherbornhistory.org/event/sherborn-stories-a-350th-community-project/
LOCATION:Sherborn Library\, 4 Sanger Street\, Sherborn\, MA\, 01770\, United States
END:VEVENT
BEGIN:VEVENT
DTSTART;TZID=America/New_York:20240514T070000
DTEND;TZID=America/New_York:20240514T200000
DTSTAMP:20260423T224214
CREATED:20240509T002435Z
LAST-MODIFIED:20240512T142148Z
UID:3882-1715670000-1715716800@www.sherbornhistory.org
SUMMARY:SHERBORN ANNUAL TOWN ELECTION
DESCRIPTION:SHERBORN RESIDENTS: don’t forget to show up to our annual town election and vote in support of historical preservation space! \n \n 
URL:https://www.sherbornhistory.org/event/sherborn-town-election/
LOCATION:Sherborn Town Hall\, 19 Washington Street\, Sherborn\, MA\, 01770\, United States
END:VEVENT
BEGIN:VEVENT
DTSTART;TZID=America/New_York:20240511T100000
DTEND;TZID=America/New_York:20240511T160000
DTSTAMP:20260423T224214
CREATED:20240509T004403Z
LAST-MODIFIED:20240509T004445Z
UID:3887-1715421600-1715443200@www.sherbornhistory.org
SUMMARY:ARTS & CRAFTS FAIR
DESCRIPTION:Stop by the Annual Arts & Crafts Fair! The Sherborn History Center and Museum will have a table in the Community Booth section. We would love to meet you and chat about our shared history. You can also meet and take a selfie with the Boggastow Bunch!
URL:https://www.sherbornhistory.org/event/arts-crafts-fair/
LOCATION:Sherborn Library\, 4 Sanger Street\, Sherborn\, MA\, 01770\, United States
END:VEVENT
END:VCALENDAR