BEGIN:VCALENDAR
VERSION:2.0
PRODID:-//Sherborn History - ECPv6.15.20//NONSGML v1.0//EN
CALSCALE:GREGORIAN
METHOD:PUBLISH
X-WR-CALNAME:Sherborn History
X-ORIGINAL-URL:https://www.sherbornhistory.org
X-WR-CALDESC:Events for Sherborn History
REFRESH-INTERVAL;VALUE=DURATION:PT1H
X-Robots-Tag:noindex
X-PUBLISHED-TTL:PT1H
BEGIN:VTIMEZONE
TZID:UTC
BEGIN:STANDARD
TZOFFSETFROM:+0000
TZOFFSETTO:+0000
TZNAME:UTC
DTSTART:20250101T000000
END:STANDARD
END:VTIMEZONE
BEGIN:VEVENT
DTSTART;TZID=UTC:20260409T190000
DTEND;TZID=UTC:20260409T203000
DTSTAMP:20260423T162315
CREATED:20260323T205214Z
LAST-MODIFIED:20260323T205214Z
UID:4386-1775761200-1775766600@www.sherbornhistory.org
SUMMARY:Black Patriots and the Revolution
DESCRIPTION:Dr. Robert Bellinger is a public historian with a B. A. from Amherst College and a Ph.D. in history from Boston College. As the proprietor of Righting Histories\, Dr. Bellinger engages in projects that involve research and interpretation of African American history\, local histories\, and historic sites. Dr. Bellinger is an Associate Professor Emeritus at Suffolk University\, and serves on the boards of multiple history-related institutions. \nDr. Bellinger’s talk will focus on research he’s recently done on Black Patriots and the Revolution\, featuring Lexingtonians\, Prince Estabrook and Pompey Blackman\, both of who fought in the war.  \nThis program is cosponsored by the Sherborn Library and Sherborn Historical Society. 
URL:https://www.sherbornhistory.org/event/black-patriots-and-the-revolution/
LOCATION:Sherborn Library\, 4 Sanger Street\, Sherborn\, MA\, 01770\, United States
ATTACH;FMTTYPE=image/jpeg:https://www.sherbornhistory.org/wp-content/uploads/2026/03/Black-Patriots-smaller.jpg
ORGANIZER;CN="Sherborn Historical Society":MAILTO:sherbornhistoricalsociety@gmail.com
END:VEVENT
END:VCALENDAR