BEGIN:VCALENDAR
VERSION:2.0
PRODID:-//Sherborn History - ECPv6.15.20//NONSGML v1.0//EN
CALSCALE:GREGORIAN
METHOD:PUBLISH
X-ORIGINAL-URL:https://www.sherbornhistory.org
X-WR-CALDESC:Events for Sherborn History
REFRESH-INTERVAL;VALUE=DURATION:PT1H
X-Robots-Tag:noindex
X-PUBLISHED-TTL:PT1H
BEGIN:VTIMEZONE
TZID:UTC
BEGIN:STANDARD
TZOFFSETFROM:+0000
TZOFFSETTO:+0000
TZNAME:UTC
DTSTART:20240101T000000
END:STANDARD
END:VTIMEZONE
BEGIN:VEVENT
DTSTART;TZID=UTC:20251206T090000
DTEND;TZID=UTC:20251206T150000
DTSTAMP:20260423T212124
CREATED:20251118T022700Z
LAST-MODIFIED:20251118T022700Z
UID:4276-1765011600-1765033200@www.sherbornhistory.org
SUMMARY:Join us at the Sherborn Holiday Market!
DESCRIPTION:The Sherborn Historical Society will host a table at the Sherborn Holiday Market\, where we will be selling treasures including candle holders crafted from the Dowse sycamore tree (made by our very own Kevin Delaney). Come by and say hi! \n 
URL:https://www.sherbornhistory.org/event/join-us-at-the-sherborn-holiday-market/
LOCATION:Sherborn 1858 Town House\, 3 Sanger St\, Sherborn\, MA\, 01770\, United States
END:VEVENT
END:VCALENDAR